BEGIN:VCALENDAR
VERSION:2.0
PRODID:-//ChamberMaster//Event Calendar 2.0//EN
METHOD:PUBLISH
X-PUBLISHED-TTL:P3D
REFRESH-INTERVAL:P3D
CALSCALE:GREGORIAN
BEGIN:VEVENT
DTSTART:20151111T003000Z
DTEND:20151118T020000Z
X-MICROSOFT-CDO-ALLDAYEVENT:FALSE
SUMMARY:Introductory Course on Mindfulness
DESCRIPTION:This course will offer an opportunity to begin to understand mindfulness as a way to approach living with daily stresses\, living with anxiety and/or depression\, loss or chronic pain. There is a wealth of research proving mindfulness to be a lifestyle with less suffering and more happiness. Mindfulness meditation will be introduced and practiced along with poetry and body movement. Discussion will be facilitated to make sense of the teachings. Persons attending this two session course will leave with suggestions on how to begin introducing mindfulness skills into their lives. **************
X-ALT-DESC;FMTTYPE=text/html:This course will offer an opportunity to begin to understand mindfulness as a way to approach living with daily stresses\, living with anxiety and/or depression\, loss or chronic pain. There is a wealth of research proving mindfulness to be a lifestyle with less suffering and more happiness. Mindfulness meditation will be introduced and practiced along with poetry&nbsp\;and body movement. Discussion will be facilitated to make sense of the teachings. Persons attending this two session course will leave with suggestions on how to begin introducing mindfulness skills into their lives. **************
LOCATION:Villa Maria Retreat and Conference Center 29847 County 2 Blvd. Frontenac\, MN 55026
UID:e.621.4518
SEQUENCE:3
DTSTAMP:20260424T165638Z
URL:https://public.lakecity.org/events/details/introductory-course-on-mindfulness-11-10-2015-4518
END:VEVENT

END:VCALENDAR
