BEGIN:VCALENDAR
VERSION:2.0
PRODID:-//ChamberMaster//Event Calendar 2.0//EN
METHOD:PUBLISH
X-PUBLISHED-TTL:P3D
REFRESH-INTERVAL:P3D
CALSCALE:GREGORIAN
BEGIN:VEVENT
DTSTART:20140201T180000Z
DTEND:20140228T180000Z
X-MICROSOFT-CDO-ALLDAYEVENT:FALSE
SUMMARY:It's All About Red at Mill House Market
DESCRIPTION:During the month of February\, join Mill House Market in supporting Women's Heart Health. Mill House will donate 10% of your purchase on February 7th to the American Heart Association. ALL customers who wear red when they shop February 1-28 will receive 20% off their entire purchase.
X-ALT-DESC;FMTTYPE=text/html:During the month of February\, join Mill House Market in supporting Women&#39\;s Heart Health. Mill House will donate 10% of your purchase on February 7th to the American Heart Association. ALL customers who wear red when they shop February 1-28 will receive 20% off their entire purchase.
LOCATION:130 S Washington St Lake City\, MN 55041
UID:e.621.3433
SEQUENCE:3
DTSTAMP:20260426T002606Z
URL:https://public.lakecity.org/events/details/it-s-all-about-red-at-mill-house-market-02-01-2014-3433
END:VEVENT

END:VCALENDAR
