BEGIN:VCALENDAR
VERSION:2.0
PRODID:-//ChamberMaster//Event Calendar 2.0//EN
METHOD:PUBLISH
X-PUBLISHED-TTL:P3D
REFRESH-INTERVAL:P3D
CALSCALE:GREGORIAN
BEGIN:VEVENT
DTSTART:20140116T160000Z
DTEND:20140119T210000Z
X-MICROSOFT-CDO-ALLDAYEVENT:FALSE
SUMMARY:January Thaw at Mill House Market
DESCRIPTION:Mill House Market will be holding their January Occasional Sale January 16-19! Refreshed and restocked for 2014...shop primitives\, vintage finds\, junk market\, re-purposed items and home d cor! Open 4 DAYS ONLY in January!
X-ALT-DESC;FMTTYPE=text/html:Mill House Market will be holding their January Occasional Sale January 16-19! Refreshed and restocked for 2014...shop primitives\, vintage finds\, junk market\, re-purposed items and home d&eacute\;cor! Open 4 DAYS ONLY in January!
LOCATION:130 S Washington Street
UID:e.621.3428
SEQUENCE:3
DTSTAMP:20260426T032655Z
URL:https://public.lakecity.org/events/details/january-thaw-at-mill-house-market-01-16-2014-3428
END:VEVENT

END:VCALENDAR
