BEGIN:VCALENDAR
VERSION:2.0
PRODID:-//ChamberMaster//Event Calendar 2.0//EN
METHOD:PUBLISH
X-PUBLISHED-TTL:P3D
REFRESH-INTERVAL:P3D
CALSCALE:GREGORIAN
BEGIN:VEVENT
DTSTART:20171007T150000Z
DTEND:20171008T000000Z
X-MICROSOFT-CDO-ALLDAYEVENT:FALSE
SUMMARY:Johnny Appleseed Day
DESCRIPTION:Craft Fair\, Apple Peeling Contest\, Fire Department Open House\, Library Storytime\, Lake City Arts Council Show/Sale\, Farmer's Market\, Gramm's Rocks\, Pinewood Derby Races\, Vendor Sale\, Scarecrow Contest\, Music in Patton Park
X-ALT-DESC;FMTTYPE=text/html:Craft Fair\, Apple Peeling Contest\, Fire Department Open House\, Library Storytime\, Lake City Arts Council Show/Sale\, Farmer&#39\;s Market\,&nbsp\;Gramm&#39\;s Rocks\, Pinewood Derby Races\, Vendor Sale\, Scarecrow Contest\, Music in Patton Park
LOCATION:Lake City\, MN
UID:e.621.5755
SEQUENCE:3
DTSTAMP:20260421T164816Z
URL:https://public.lakecity.org/events/details/johnny-appleseed-day-5755
END:VEVENT

END:VCALENDAR
