BEGIN:VCALENDAR
VERSION:2.0
PRODID:-//ChamberMaster//Event Calendar 2.0//EN
METHOD:PUBLISH
X-PUBLISHED-TTL:P3D
REFRESH-INTERVAL:P3D
CALSCALE:GREGORIAN
BEGIN:VEVENT
DTSTART;VALUE=DATE:20141004
DTEND;VALUE=DATE:20141005
TRANSP:TRANSPARENT
X-MICROSOFT-CDO-ALLDAYEVENT:TRUE
SUMMARY:Johnny Appleseed Festival
DESCRIPTION:Held at the peak of the fall foliage display. Fresh apples & apple products.  Live music\, arts & crafts fair\, seller's market\, apple pie sales & social\, farmer's market\, children's activities\, inflatable rides\, petting zoo\, book sale\, quilt show\, kid pedal tractor pull\, & more!\n\nClick HERE for Event Poster\n\n\n\nFor more info. visit:  www.lakecity.org/johnnyappleseed.html
X-ALT-DESC;FMTTYPE=text/html:<div>\n<div><span style="font-size: 12px\;"><span style="font-family: arial\;">Held at the peak of the fall foliage display. Fresh apples &amp\; apple products.&nbsp\;&nbsp\;Live music\,&nbsp\;arts &amp\; crafts fair\, seller&rsquo\;s market\, apple pie sales &amp\; social\, farmer&rsquo\;s market\,&nbsp\;children&rsquo\;s activities\, inflatable rides\, petting zoo\, book sale\, quilt show\, kid pedal tractor pull\, &amp\; more!</span></span><br />\nClick <a href="http://cloud.chambermaster.com/userfiles/UserFiles/chambers/621/File/JohnnyApplePoster-2014.pdf">HERE</a> for Event Poster<br />\n<br />\n<span style="font-size: 12px\;"><span style="font-family: arial\;">For more info. visit:&nbsp\; <a href="http://www.lakecity.org/johnnyappleseed.html">www.lakecity.org/johnnyappleseed.html</a></span></span></div>\n</div>\n
LOCATION:Patton Park and City Hall Ballroom
UID:e.621.234
SEQUENCE:3
DTSTAMP:20260425T112833Z
URL:https://public.lakecity.org/events/details/johnny-appleseed-festival-10-04-2014-234
END:VEVENT

END:VCALENDAR
