BEGIN:VCALENDAR
VERSION:2.0
PRODID:-//ChamberMaster//Event Calendar 2.0//EN
METHOD:PUBLISH
X-PUBLISHED-TTL:P3D
REFRESH-INTERVAL:P3D
CALSCALE:GREGORIAN
BEGIN:VEVENT
DTSTART:20170909T150000Z
DTEND:20170910T220000Z
X-MICROSOFT-CDO-ALLDAYEVENT:FALSE
SUMMARY:Junk Crush
DESCRIPTION:Junk Crush features a select group of vendors with vintage\, repurposed\, upcycled\, and handmade treasures along the downtown streets of Lake City\, MN. Grab a glass of wine and also enjoy food\, music\, grape stomps\, and presentations by our special guest\, the Barndogglers!
X-ALT-DESC;FMTTYPE=text/html:<font class="SmallText">Junk Crush features a select group of vendors with vintage\, repurposed\, upcycled\, and handmade treasures along the downtown streets of Lake City\, MN. </font>Grab a glass of wine and also enjoy food\, music\, grape stomps\, and presentations by our special guest\, the Barndogglers!
LOCATION:Find the fun at the intersection of N. Washington St. and W. Center St. in downtown Lake City\, MN.
UID:e.621.5753
SEQUENCE:3
DTSTAMP:20260421T183418Z
URL:https://public.lakecity.org/events/details/junk-crush-5753
END:VEVENT

END:VCALENDAR
