BEGIN:VCALENDAR
VERSION:2.0
PRODID:-//ChamberMaster//Event Calendar 2.0//EN
METHOD:PUBLISH
X-PUBLISHED-TTL:P3D
REFRESH-INTERVAL:P3D
CALSCALE:GREGORIAN
BEGIN:VEVENT
DTSTART;VALUE=DATE:20160910
DTEND;VALUE=DATE:20160912
TRANSP:TRANSPARENT
X-MICROSOFT-CDO-ALLDAYEVENT:TRUE
SUMMARY:Junk Crush Festival
DESCRIPTION:Junk Crush features a select group of vendors with fabulous vintage and repurposed treasures\; bringing people downtown Lake City for two days of shopping. And we can't forget the wine\, food\, music\, grape stomps\, and presentations by our special guests\, the Barndogglers!
X-ALT-DESC;FMTTYPE=text/html:Junk Crush features a select group of vendors with fabulous vintage and repurposed treasures\; bringing people downtown Lake City for two days of shopping. And we can&rsquo\;t forget the wine\, food\, music\, grape stomps\, and presentations by our special guests\, the Barndogglers!
LOCATION:
UID:e.621.5094
SEQUENCE:3
DTSTAMP:20260422T142100Z
URL:https://public.lakecity.org/events/details/junk-crush-festival-09-10-2016-5094
END:VEVENT

END:VCALENDAR
