BEGIN:VCALENDAR
VERSION:2.0
PRODID:-//ChamberMaster//Event Calendar 2.0//EN
METHOD:PUBLISH
X-PUBLISHED-TTL:P3D
REFRESH-INTERVAL:P3D
CALSCALE:GREGORIAN
BEGIN:VEVENT
DTSTART:20211125T170000Z
DTEND:20211125T210000Z
X-MICROSOFT-CDO-ALLDAYEVENT:FALSE
SUMMARY:Kelly's Lake House Thanksgiving
DESCRIPTION:Enjoy Thanksgiving dinner with an incomparable view!\n\nKelly's will be serving Ferndale Market (Cannon Falls) free range turkey\, double smoked Nerstrand Meats and Catering ham\, with peppercorn gravy\, stuffing\, green bean casserole\, mashed potatoes\, sweet potatoes\, Hanisch Bakery and Coffee Shop dinner rolls and your choice of pumpkin or pecan pie.\n\n$35 dinner for two or $19 per plate. 11am - 3pm\, dine-in or carry out. Call 651-448-8840 to reserve yours today.
X-ALT-DESC;FMTTYPE=text/html:<p>Enjoy Thanksgiving dinner with an incomparable view!</p>\n\n<p>Kelly&#39\;s will be serving <a class="oajrlxb2 g5ia77u1 qu0x051f esr5mh6w e9989ue4 r7d6kgcz rq0escxv nhd2j8a9 nc684nl6 p7hjln8o kvgmc6g5 cxmmr5t8 oygrvhab hcukyx3x jb3vyjys rz4wbd8a qt6c0cv9 a8nywdso i1ao9s8h esuyzwwr f1sip0of lzcic4wl oo9gr5id gpro0wi8 lrazzd5p" href="https://www.facebook.com/FerndaleMarket/?__cft__[0]=AZWRWjWiogERAzYY8l4EBj7g8CAEsnoAzHy-gTbzc-6Ggq6Rvkfsh4-DZSCZyi5jyEmZ7iDDzxX-szpey9NR0NtQUEuKqbxwXgTTO75mpaBqxc0qjkNxkcaRN7kHvd9AAaPF7Id2EcvRarVysGJZhLY-&amp\;__tn__=kK*F" role="link" tabindex="0"><span class="nc684nl6">Ferndale Market</span></a>&nbsp\;(Cannon Falls) free range turkey\, double smoked&nbsp\;<a class="oajrlxb2 g5ia77u1 qu0x051f esr5mh6w e9989ue4 r7d6kgcz rq0escxv nhd2j8a9 nc684nl6 p7hjln8o kvgmc6g5 cxmmr5t8 oygrvhab hcukyx3x jb3vyjys rz4wbd8a qt6c0cv9 a8nywdso i1ao9s8h esuyzwwr f1sip0of lzcic4wl oo9gr5id gpro0wi8 lrazzd5p" href="https://www.facebook.com/Nerstrand-Meats-and-Catering-154588281243692/?__cft__[0]=AZWRWjWiogERAzYY8l4EBj7g8CAEsnoAzHy-gTbzc-6Ggq6Rvkfsh4-DZSCZyi5jyEmZ7iDDzxX-szpey9NR0NtQUEuKqbxwXgTTO75mpaBqxc0qjkNxkcaRN7kHvd9AAaPF7Id2EcvRarVysGJZhLY-&amp\;__tn__=kK*F" role="link" tabindex="0"><span class="nc684nl6">Nerstrand Meats and Catering</span></a>&nbsp\;ham\, with peppercorn gravy\, stuffing\, green bean casserole\, mashed potatoes\, sweet potatoes\,&nbsp\;<a class="oajrlxb2 g5ia77u1 qu0x051f esr5mh6w e9989ue4 r7d6kgcz rq0escxv nhd2j8a9 nc684nl6 p7hjln8o kvgmc6g5 cxmmr5t8 oygrvhab hcukyx3x jb3vyjys rz4wbd8a qt6c0cv9 a8nywdso i1ao9s8h esuyzwwr f1sip0of lzcic4wl oo9gr5id gpro0wi8 lrazzd5p" href="https://www.facebook.com/hanischbakery/?__cft__[0]=AZWRWjWiogERAzYY8l4EBj7g8CAEsnoAzHy-gTbzc-6Ggq6Rvkfsh4-DZSCZyi5jyEmZ7iDDzxX-szpey9NR0NtQUEuKqbxwXgTTO75mpaBqxc0qjkNxkcaRN7kHvd9AAaPF7Id2EcvRarVysGJZhLY-&amp\;__tn__=kK*F" role="link" tabindex="0"><span class="nc684nl6">Hanisch Bakery and Coffee Shop</span></a>&nbsp\;dinner rolls and your choice of pumpkin or pecan pie.</p>\n\n<p>$35 dinner for two or $19 per plate. 11am - 3pm\, dine-in or carry out. Call 651-448-8840 to reserve yours today.</p>\n
LOCATION:Kelly's Lake House 1702 N Lakeshore Lake City\, MN 55041
UID:e.621.8511
SEQUENCE:3
DTSTAMP:20260423T183054Z
URL:https://public.lakecity.org/events/details/kelly-s-lake-house-thanksgiving-8511
END:VEVENT

END:VCALENDAR
