BEGIN:VCALENDAR
VERSION:2.0
PRODID:-//ChamberMaster//Event Calendar 2.0//EN
METHOD:PUBLISH
X-PUBLISHED-TTL:P3D
REFRESH-INTERVAL:P3D
CALSCALE:GREGORIAN
BEGIN:VEVENT
DTSTART:20160808T000000Z
DTEND:20160808T013000Z
X-MICROSOFT-CDO-ALLDAYEVENT:FALSE
SUMMARY:Kid's Crusade
DESCRIPTION:Kid's Crusade in Lake City starts Sunday August 7th    \n\nThe entire family is invited to 4 fun filled evenings at the annual Kid's Crusade at Valley View Assembly of God church in Lake City starting Sunday August 7th at 7 PM.  Ben and Christine Christensen of BenComedy.com will share the gospel through juggling\, puppets\, mime\, clowns\, illusion and music.  Each night will include a new program\, door prizes donated from local businesses and treats.  Kids\, age three through last year's 6th grade register for door prizes. Families are encouraged to attend with their children\; and children age 5 and under must be accompanied by an adult. A free will offering will be received. \nDon't miss one night of inspirational fun beginning \n\nSunday\, Aug. 7th through Wednesday\, Aug. 10th from 7:00   8:30 PM \n\nat Valley View Assembly of God Church\n\n         305 W. Grant St. (Goodhue Co. 5)\, Lake City\, MN\n\nOne block from the Lake City Medical Center\n\nThe Crusade is fun for the entire family and it's free!\n\n         For more information call the church office at 651-345-3432 or email valleyviewkidscrusade@gmail.com or Facebook "Valley View Kids Crusade"
X-ALT-DESC;FMTTYPE=text/html:&nbsp\;<br />\n<strong><u><span style="font-family:arial black"><span style="font-size:14.0pt">Kid&rsquo\;s Crusade in Lake City starts Sunday August 7th &nbsp\;&nbsp\;&nbsp\;</span></span></u></strong>\n\n<h1 style="text-align:center">The entire family is invited to 4 fun filled evenings at the annual Kid&rsquo\;s Crusade at Valley View Assembly of God church in Lake City starting Sunday August 7th at 7 PM. &nbsp\;Ben and Christine Christensen of BenComedy.com will share the gospel through juggling\, puppets\, mime\, clowns\, illusion and music. &nbsp\;Each night will include a new program\, door prizes donated from local businesses and treats. &nbsp\;Kids\, age three through last year&rsquo\;s 6<sup>th</sup> grade register for door prizes. Families are encouraged to attend with their children\; and children age 5 and under <u>must</u> be accompanied by an adult<em>. </em>A free will offering will be received.&nbsp\;</h1>\n<span style="font-size:14.0pt">Don&rsquo\;t miss one night of inspirational fun beginning </span><br />\n<strong><span style="font-size:14.0pt">Sunday\, Aug. 7th through Wednesday\, Aug. 10th from 7:00 &ndash\; 8:30 PM </span></strong><br />\n<span style="font-size:14.0pt">at Valley View Assembly of God Church</span><br />\n<span style="font-size:14.0pt">&nbsp\;&nbsp\;&nbsp\;&nbsp\;&nbsp\;&nbsp\;&nbsp\;&nbsp\; 305 W. Grant St. (Goodhue Co. 5)\, Lake City\, MN</span><br />\n<span style="font-size:14.0pt">One block from the Lake City Medical Center</span><br />\n<span style="font-size:14.0pt">The Crusade is fun for the entire family <em>and i</em>t&rsquo\;s free!</span><br />\n&nbsp\;&nbsp\;&nbsp\;&nbsp\;&nbsp\;&nbsp\;&nbsp\;&nbsp\; For more information call the church office at 651-345-3432 or email <a href="mailto:valleyviewkidscrusade@gmail.com">valleyviewkidscrusade@gmail.com</a> or Facebook &ldquo\;Valley View Kids Crusade&rdquo\;<br />\n&nbsp\;
LOCATION:
UID:e.621.5409
SEQUENCE:3
DTSTAMP:20260422T141617Z
URL:https://public.lakecity.org/events/details/kid-s-crusade-08-07-2016-5409
END:VEVENT

END:VCALENDAR
