BEGIN:VCALENDAR
VERSION:2.0
PRODID:-//ChamberMaster//Event Calendar 2.0//EN
METHOD:PUBLISH
X-PUBLISHED-TTL:P3D
REFRESH-INTERVAL:P3D
CALSCALE:GREGORIAN
BEGIN:VEVENT
DTSTART:20160427T200000Z
DTEND:20160427T213000Z
X-MICROSOFT-CDO-ALLDAYEVENT:FALSE
SUMMARY:Kiwanis Club of Lake City Pitch\, Hit & Run Competition
DESCRIPTION:PHR competition held at Bluff View Grade School Kieffer BB field
X-ALT-DESC;FMTTYPE=text/html:PHR competition held at Bluff View Grade School Kieffer BB field
LOCATION:Kieffer BB Field\, Bluff View
UID:e.621.5233
SEQUENCE:3
DTSTAMP:20260422T200428Z
URL:https://public.lakecity.org/events/details/kiwanis-club-of-lake-city-pitch-hit-run-competition-04-27-2016-5233
END:VEVENT

END:VCALENDAR
