BEGIN:VCALENDAR
VERSION:2.0
PRODID:-//ChamberMaster//Event Calendar 2.0//EN
METHOD:PUBLISH
X-PUBLISHED-TTL:P3D
REFRESH-INTERVAL:P3D
CALSCALE:GREGORIAN
BEGIN:VEVENT
DTSTART;VALUE=DATE:20150912
DTEND;VALUE=DATE:20150913
TRANSP:TRANSPARENT
X-MICROSOFT-CDO-ALLDAYEVENT:TRUE
SUMMARY:Kiwanis/NFL "Punt\, Pass & Kick" competition
DESCRIPTION:registration at 8:30 AM\, competition starting at 9:00 AM
X-ALT-DESC;FMTTYPE=text/html:registration at 8:30 AM\, competition starting at 9:00 AM
LOCATION:Lake City High School Football Field
UID:e.621.4491
SEQUENCE:3
DTSTAMP:20260424T183158Z
URL:https://public.lakecity.org/events/details/kiwanis-nfl-punt-pass-kick-competition-09-12-2015-4491
END:VEVENT

END:VCALENDAR
