BEGIN:VCALENDAR
VERSION:2.0
PRODID:-//ChamberMaster//Event Calendar 2.0//EN
METHOD:PUBLISH
X-PUBLISHED-TTL:P3D
REFRESH-INTERVAL:P3D
CALSCALE:GREGORIAN
BEGIN:VEVENT
DTSTART:20160424T130000Z
DTEND:20160424T173000Z
X-MICROSOFT-CDO-ALLDAYEVENT:FALSE
SUMMARY:Kiwanis Pancake Breakfast
DESCRIPTION:Enjoy a Pancake Breakfast complete with sausages and beverages! Lake Cit Kiwanis proudly supports: * Food Shelf * Fourth Grade trip to Eagle Bluff * Environmental Learning Program * United Way Backpack Program Plus we provide dictionaries & thesauruses for Bluff View & St. Johns and scholarships to graduating seniors!
X-ALT-DESC;FMTTYPE=text/html:Enjoy a Pancake Breakfast complete with sausages and beverages! Lake Cit Kiwanis proudly supports: * Food Shelf * Fourth Grade trip to Eagle Bluff * Environmental Learning Program * United Way Backpack Program Plus we provide dictionaries &amp\; thesauruses for Bluff View &amp\; St. Johns and scholarships to graduating seniors!
LOCATION:St. Mary's of the Lake Catholic Church 419 West Lyon Ave Lake City\, Minnesota
UID:e.621.5228
SEQUENCE:3
DTSTAMP:20260422T195807Z
URL:https://public.lakecity.org/events/details/kiwanis-pancake-breakfast-04-24-2016-5228
END:VEVENT

END:VCALENDAR
