BEGIN:VCALENDAR
VERSION:2.0
PRODID:-//ChamberMaster//Event Calendar 2.0//EN
METHOD:PUBLISH
X-PUBLISHED-TTL:P3D
REFRESH-INTERVAL:P3D
CALSCALE:GREGORIAN
BEGIN:VEVENT
DTSTART:20140518T130000Z
DTEND:20140518T130000Z
X-MICROSOFT-CDO-ALLDAYEVENT:FALSE
SUMMARY:Kiwanis Pancake Breakfast
DESCRIPTION:Kiwanis Pancake Breakfast
X-ALT-DESC;FMTTYPE=text/html:Kiwanis Pancake Breakfast
LOCATION:Lincoln High School
UID:e.621.2801
SEQUENCE:3
DTSTAMP:20260425T191551Z
URL:https://public.lakecity.org/events/details/kiwanis-pancake-breakfast-05-18-2014-2801
END:VEVENT

END:VCALENDAR
