BEGIN:VCALENDAR
VERSION:2.0
PRODID:-//ChamberMaster//Event Calendar 2.0//EN
METHOD:PUBLISH
X-PUBLISHED-TTL:P3D
REFRESH-INTERVAL:P3D
CALSCALE:GREGORIAN
BEGIN:VEVENT
DTSTART:20140502T180000Z
DTEND:20140502T200000Z
X-MICROSOFT-CDO-ALLDAYEVENT:FALSE
SUMMARY:Lake City Apartments Open House
DESCRIPTION:Lake City Apartments\n\nOpen House
X-ALT-DESC;FMTTYPE=text/html:Lake City Apartments<br />\nOpen House
LOCATION:1109 N. High St. Lake City\, MN
UID:e.621.4008
SEQUENCE:3
DTSTAMP:20260425T191936Z
URL:https://public.lakecity.org/events/details/lake-city-apartments-open-house-05-02-2014-4008
END:VEVENT

END:VCALENDAR
