BEGIN:VCALENDAR
VERSION:2.0
PRODID:-//ChamberMaster//Event Calendar 2.0//EN
METHOD:PUBLISH
X-PUBLISHED-TTL:P3D
REFRESH-INTERVAL:P3D
CALSCALE:GREGORIAN
BEGIN:VEVENT
DTSTART:20230205T000000Z
DTEND:20230205T040000Z
X-MICROSOFT-CDO-ALLDAYEVENT:FALSE
SUMMARY:Lake City Area Arts Winter Dance with LP and the 45s
DESCRIPTION:Dance to the hits of the vinyl era performed by LP and the 45s while raising money for Lake City Area Arts.
X-ALT-DESC;FMTTYPE=text/html:Dance to the hits of the vinyl era performed by LP and the 45s while raising money for Lake City Area Arts.
LOCATION:Lake City Sportsman's Club 2200 S. Oak St.\, Lake City
UID:e.621.9048
SEQUENCE:3
DTSTAMP:20260422T121406Z
URL:https://public.lakecity.org/events/details/lake-city-area-arts-winter-dance-with-lp-and-the-45s-9048
END:VEVENT

END:VCALENDAR
