BEGIN:VCALENDAR
VERSION:2.0
PRODID:-//ChamberMaster//Event Calendar 2.0//EN
METHOD:PUBLISH
X-PUBLISHED-TTL:P3D
REFRESH-INTERVAL:P3D
CALSCALE:GREGORIAN
BEGIN:VEVENT
DTSTART:20150501T180000Z
DTEND:20150531T180000Z
X-MICROSOFT-CDO-ALLDAYEVENT:FALSE
SUMMARY:Lake City Blossoms
DESCRIPTION:The Lake City artists group "Show and Share" will have an exhibition of floral paintings at the Jewel Golf Course during the month of May. The "Lake City Blossoms" exhibit will be on display in the Hale Irwin room of the club house and is a free exhibit\, open to the public.
X-ALT-DESC;FMTTYPE=text/html:The Lake City artists group &quot\;Show and Share&quot\; will have an exhibition of floral paintings at the Jewel Golf Course during the month of May. The &quot\;Lake City Blossoms&quot\; exhibit will be on display in the Hale Irwin room of the club house and is a free exhibit\, open to the public.
LOCATION:Jewel Golf Course Hale Irwin room
UID:e.621.4419
SEQUENCE:3
DTSTAMP:20260425T002543Z
URL:https://public.lakecity.org/events/details/lake-city-blossoms-05-01-2015-4419
END:VEVENT

END:VCALENDAR
