BEGIN:VCALENDAR
VERSION:2.0
PRODID:-//ChamberMaster//Event Calendar 2.0//EN
METHOD:PUBLISH
X-PUBLISHED-TTL:P3D
REFRESH-INTERVAL:P3D
CALSCALE:GREGORIAN
BEGIN:VEVENT
DTSTART:20170124T233000Z
DTEND:20170125T020000Z
X-MICROSOFT-CDO-ALLDAYEVENT:FALSE
SUMMARY:Lake City Chamber Annual Meeting & Banquet
DESCRIPTION:Help us celebrate our members at the Lake City Sportsman Club on Tuesday January 24\, 2017. Social hour starts at 5:30\, dinner at 6:30\, and the program at 7:00.
X-ALT-DESC;FMTTYPE=text/html:<span style="font-size:16px\;"><span style="font-family:arial\;">Help us celebrate our members at the Lake City Sportsman Club on Tuesday January 24\, 2017. Social hour starts at 5:30\, dinner at 6:30\, and the program at 7:00.</span></span>
LOCATION:Lake City Sportsman Club 2200 S Oak Street Lake City\, MN 55041
UID:e.621.5508
SEQUENCE:3
DTSTAMP:20260422T073027Z
URL:https://public.lakecity.org/events/details/lake-city-chamber-annual-meeting-banquet-5508
END:VEVENT

END:VCALENDAR
