BEGIN:VCALENDAR
VERSION:2.0
PRODID:-//ChamberMaster//Event Calendar 2.0//EN
METHOD:PUBLISH
X-PUBLISHED-TTL:P3D
REFRESH-INTERVAL:P3D
CALSCALE:GREGORIAN
BEGIN:VEVENT
DTSTART:20220715T140000Z
DTEND:20220715T230000Z
X-MICROSOFT-CDO-ALLDAYEVENT:FALSE
SUMMARY:Lake City Chamber Golf Tournament
DESCRIPTION:Schedule of Events\n\n*9:00AM Registration\n\n*11:00AM Shotgun Start\n\n*12:30PM Box Lunches Delivered on Course\n\n*4:00PM   5:00PM Cocktail / Social Hour\n\n*5:30 - Awards for golf & Raffle winners\n\n\n\nRegistration info\n\n4-Person Scrambler\n\nEntry fee = $80 per player\, $320 per team\n\n*Includes18-holes\, cart\, range balls\, tee gift\, lunch\, drink ticket\, on-course contest and prize fund.\n\n\n\nTo register contact:\n\nTravis@lakecitygolf.com\n\n\n\nFor sponsorship info contact:\n\nchamberevents@lakecity.org
X-ALT-DESC;FMTTYPE=text/html:<u><strong>Schedule of Events</strong></u><br />\n*9:00AM Registration<br />\n*11:00AM Shotgun Start<br />\n*12:30PM Box Lunches Delivered on Course<br />\n*4:00PM &ndash\; 5:00PM Cocktail / Social Hour<br />\n*5:30 -&nbsp\;Awards for golf &amp\; Raffle winners<br />\n<br />\n<u><strong>Registration info</strong></u><br />\n4-Person Scrambler<br />\nEntry fee = $80 per player\, $320 per team<br />\n*Includes18-holes\, cart\, range balls\, tee gift\, lunch\, drink ticket\,&nbsp\;on-course contest and prize fund.<br />\n<br />\n<u style="color: rgb(51\, 51\, 51)\; font-family: sans-serif\, Arial\, Verdana\, &quot\;Trebuchet MS&quot\;\; font-size: 13px\;"><strong>To register contact:</strong></u><br style="color: rgb(51\, 51\, 51)\; font-family: sans-serif\, Arial\, Verdana\, &quot\;Trebuchet MS&quot\;\; font-size: 13px\;" />\n<span style="color: rgb(51\, 51\, 51)\; font-family: sans-serif\, Arial\, Verdana\, &quot\;Trebuchet MS&quot\;\; font-size: 13px\; background-color: rgb(255\, 255\, 255)\;">Travis@lakecitygolf.com</span><br style="color: rgb(51\, 51\, 51)\; font-family: sans-serif\, Arial\, Verdana\, &quot\;Trebuchet MS&quot\;\; font-size: 13px\;" />\n<br style="color: rgb(51\, 51\, 51)\; font-family: sans-serif\, Arial\, Verdana\, &quot\;Trebuchet MS&quot\;\; font-size: 13px\;" />\n<u style="color: rgb(51\, 51\, 51)\; font-family: sans-serif\, Arial\, Verdana\, &quot\;Trebuchet MS&quot\;\; font-size: 13px\;"><strong>For sponsorship info contact:</strong></u><br style="color: rgb(51\, 51\, 51)\; font-family: sans-serif\, Arial\, Verdana\, &quot\;Trebuchet MS&quot\;\; font-size: 13px\;" />\n<span style="color: rgb(51\, 51\, 51)\; font-family: sans-serif\, Arial\, Verdana\, &quot\;Trebuchet MS&quot\;\; font-size: 13px\; background-color: rgb(255\, 255\, 255)\;">chamberevents@lakecity.org</span>
LOCATION:Lake City Golf Club 33587 Lakeview Dr. Lake City\, MN 55041
UID:e.621.8730
SEQUENCE:3
DTSTAMP:20260422T103552Z
URL:https://public.lakecity.org/events/details/lake-city-chamber-golf-tournament-8730
END:VEVENT

END:VCALENDAR
