BEGIN:VCALENDAR
VERSION:2.0
PRODID:-//ChamberMaster//Event Calendar 2.0//EN
METHOD:PUBLISH
X-PUBLISHED-TTL:P3D
REFRESH-INTERVAL:P3D
CALSCALE:GREGORIAN
BEGIN:VEVENT
DTSTART:20240719T150000Z
DTEND:20240720T010000Z
X-MICROSOFT-CDO-ALLDAYEVENT:FALSE
SUMMARY:Lake City Chamber Golf Tournament
DESCRIPTION:Schedule of Events\n\n*9:00AM Registration\n\n**9AM-11AM Breakfast options for purchase by Heidi's Huggamug\n\n*11:00AM Shotgun Start\n\n**11:00AM-3:00PM Ella's Acai available\n\n*3:00PM - 6:00PM Dinner served by Huettl's\n\n*6:00PM - Awards for golf & Raffle winners\n\n\n\nRegistration info\n\n4-Person Scrambler\n\nEntry fee = $85 per player\, $340 per team\n\n*Includes 18-holes\, cart\, range balls\, dinner\, drink ticket\, on-course contest and prize fund.\n\n\n\nFor sponsorship and registration info contact:\n\nchamberevents@lakecity.org
X-ALT-DESC;FMTTYPE=text/html:<u><strong>Schedule of Events</strong></u><br />\n*9:00AM Registration<br />\n**9AM-11AM Breakfast options for purchase by Heidi&#39\;s Huggamug<br />\n*11:00AM Shotgun Start<br />\n**11:00AM-3:00PM Ella&#39\;s Acai available<br />\n*3:00PM - 6:00PM Dinner served by Huettl&#39\;s<br />\n*6:00PM -&nbsp\;Awards for golf &amp\; Raffle winners<br />\n<br />\n<u><strong>Registration info</strong></u><br />\n4-Person Scrambler<br />\nEntry fee = $85 per player\, $340 per team<br />\n*Includes 18-holes\, cart\, range balls\, dinner\, drink ticket\,&nbsp\;on-course contest and prize fund.<br font-size:="" style="color: rgb(51\, 51\, 51)\; font-family: sans-serif\, Arial\, Verdana\, " trebuchet="" />\n<br font-size:="" style="color: rgb(51\, 51\, 51)\; font-family: sans-serif\, Arial\, Verdana\, " trebuchet="" />\n<u font-size:="" style="color: rgb(51\, 51\, 51)\; font-family: sans-serif\, Arial\, Verdana\, " trebuchet=""><strong>For sponsorship and registration info contact:</strong></u><br font-size:="" style="color: rgb(51\, 51\, 51)\; font-family: sans-serif\, Arial\, Verdana\, " trebuchet="" />\n<span background-color:="" font-size:="" style="color: rgb(51\, 51\, 51)\; font-family: sans-serif\, Arial\, Verdana\, " trebuchet="">chamberevents@lakecity.org</span>
LOCATION:Lake City Golf Club 33587 Lakeview Dr. Lake City\, MN 55041
UID:e.621.9217
SEQUENCE:3
DTSTAMP:20260421T104439Z
URL:https://public.lakecity.org/events/details/lake-city-chamber-golf-tournament-9217
END:VEVENT

END:VCALENDAR
