BEGIN:VCALENDAR
VERSION:2.0
PRODID:-//ChamberMaster//Event Calendar 2.0//EN
METHOD:PUBLISH
X-PUBLISHED-TTL:P3D
REFRESH-INTERVAL:P3D
CALSCALE:GREGORIAN
BEGIN:VEVENT
DTSTART:20140428T170000Z
DTEND:20140510T170000Z
X-MICROSOFT-CDO-ALLDAYEVENT:FALSE
SUMMARY:Lake City Community Blood Drive
DESCRIPTION:Bloodmobile
X-ALT-DESC;FMTTYPE=text/html:Bloodmobile
LOCATION:United Methodist Church 213 N Oak St
UID:e.621.4002
SEQUENCE:3
DTSTAMP:20260425T191827Z
URL:https://public.lakecity.org/events/details/lake-city-community-blood-drive-04-28-2014-4002
END:VEVENT

END:VCALENDAR
