BEGIN:VCALENDAR
VERSION:2.0
PRODID:-//ChamberMaster//Event Calendar 2.0//EN
METHOD:PUBLISH
X-PUBLISHED-TTL:P3D
REFRESH-INTERVAL:P3D
CALSCALE:GREGORIAN
BEGIN:VEVENT
DTSTART:20140921T133000Z
DTEND:20140921T053000Z
X-MICROSOFT-CDO-ALLDAYEVENT:FALSE
SUMMARY:Lake City Education Foundation Belgian Waffle Breakfast & Raffle
DESCRIPTION:All you care to eat waffles\, flavored syrups\, sausages\, & beverages.\n\nFundraiser to benefit the Lake City Education Foundation.\n\nShare your #bestwaffleface photo on Instagram for a chance to win a prize!\n\nFor more information Click Here
X-ALT-DESC;FMTTYPE=text/html:All you care to&nbsp\;eat waffles\, flavored syrups\, sausages\, &amp\; beverages.<br />\nFundraiser to benefit the Lake City Education Foundation.<br />\nShare your #bestwaffleface photo on Instagram for a chance to win a prize!<br />\nFor more information <a href="http://cloud.chambermaster.com/userfiles/UserFiles/chambers/621/File/LCEFPancake.doc">Click Here</a>
LOCATION:Lincoln High School Cafeteria Carry Out Plates Available
UID:e.621.2458
SEQUENCE:3
DTSTAMP:20260425T124954Z
URL:https://public.lakecity.org/events/details/lake-city-education-foundation-belgian-waffle-breakfast-raffle-09-21-2014-2458
END:VEVENT

END:VCALENDAR
