BEGIN:VCALENDAR
VERSION:2.0
PRODID:-//ChamberMaster//Event Calendar 2.0//EN
METHOD:PUBLISH
X-PUBLISHED-TTL:P3D
REFRESH-INTERVAL:P3D
CALSCALE:GREGORIAN
BEGIN:VEVENT
DTSTART:20160216T180000Z
DTEND:20160216T230000Z
X-MICROSOFT-CDO-ALLDAYEVENT:FALSE
SUMMARY:Lake City Essay Contest
DESCRIPTION:Enter and Win Lake City's Writing and Essay Contest! 4 winners - $100 Chamber Bucks EACH 4 honorable mentions - $25 EACH For complete rules and application form Click HERE.
X-ALT-DESC;FMTTYPE=text/html:Enter and Win Lake City's Writing and Essay Contest! 4 winners - $100 Chamber Bucks EACH 4 honorable mentions - $25 EACH For complete rules and application form <a href="http://cloud.chambermaster.com/userfiles/UserFiles/chambers/621/File/0172_001.pdf">Click HERE</a>.
LOCATION:
UID:e.621.4745
SEQUENCE:3
DTSTAMP:20260424T120703Z
URL:https://public.lakecity.org/events/details/lake-city-essay-contest-02-16-2016-4745
END:VEVENT

END:VCALENDAR
