BEGIN:VCALENDAR
VERSION:2.0
PRODID:-//ChamberMaster//Event Calendar 2.0//EN
METHOD:PUBLISH
X-PUBLISHED-TTL:P3D
REFRESH-INTERVAL:P3D
CALSCALE:GREGORIAN
BEGIN:VEVENT
DTSTART:20160705T000000Z
DTEND:20160705T020000Z
X-MICROSOFT-CDO-ALLDAYEVENT:FALSE
SUMMARY:Lake City Fireworks
DESCRIPTION:Pet Fish Erik Acoustic Group/Music
X-ALT-DESC;FMTTYPE=text/html:Pet Fish Erik Acoustic Group/Music
LOCATION:Ohuta Park
UID:e.621.5403
SEQUENCE:3
DTSTAMP:20260422T155143Z
URL:https://public.lakecity.org/events/details/lake-city-fireworks-07-04-2016-5403
END:VEVENT

END:VCALENDAR
