BEGIN:VCALENDAR
VERSION:2.0
PRODID:-//ChamberMaster//Event Calendar 2.0//EN
METHOD:PUBLISH
X-PUBLISHED-TTL:P3D
REFRESH-INTERVAL:P3D
CALSCALE:GREGORIAN
BEGIN:VEVENT
DTSTART:20170518T230000Z
DTEND:20170519T003000Z
X-MICROSOFT-CDO-ALLDAYEVENT:FALSE
SUMMARY:Lake City Heritage Tree Trail Celebration & Inaugural Dedication
DESCRIPTION:Please join us for the Lake City Heritage Tree Trail Celebration and Inaugural Dedication on Thursday\, May 18 beginning at 6 p.m. in Ohuta Park - ending in Patton Park.\n\n\n\nThere will be a special proclamation by Mayor Mark Nichols between 6:45 p.m. and 7 p.m.
X-ALT-DESC;FMTTYPE=text/html:Please join us for the <strong>Lake City Heritage Tree Trail Celebration and Inaugural Dedication</strong> on Thursday\, May 18 beginning at 6 p.m. in Ohuta Park - ending in Patton Park.<br />\n<br />\n<strong>There will be a special proclamation by Mayor Mark Nichols between 6:45 p.m. and 7 p.m</strong>.
LOCATION:Ohuta Park
UID:e.621.5726
SEQUENCE:3
DTSTAMP:20260422T011436Z
URL:https://public.lakecity.org/events/details/lake-city-heritage-tree-trail-celebration-inaugural-dedication-5726
END:VEVENT

END:VCALENDAR
