BEGIN:VCALENDAR
VERSION:2.0
PRODID:-//ChamberMaster//Event Calendar 2.0//EN
METHOD:PUBLISH
X-PUBLISHED-TTL:P3D
REFRESH-INTERVAL:P3D
CALSCALE:GREGORIAN
BEGIN:VEVENT
DTSTART:20160420T170000Z
DTEND:20160420T180000Z
X-MICROSOFT-CDO-ALLDAYEVENT:FALSE
SUMMARY:Lake City Kiwanis
DESCRIPTION:Lake City Kiwanis meets weekly at noon at Port 104. Join us for lunch\, a business meeting and then a speaker. Nikki Beucler\, Agriculture instructor and FFA Advisor joins us on April 20 with 3 students who were recently recognized at the Region VII FFA awards ceremony.
X-ALT-DESC;FMTTYPE=text/html:Lake City Kiwanis meets weekly at noon at Port 104. Join us for lunch\, a business meeting and then a speaker. Nikki Beucler\, Agriculture instructor and FFA Advisor joins us on April 20 with 3 students who were recently recognized at the Region VII FFA awards ceremony.
LOCATION:Port 104\, Lake City
UID:e.621.5232
SEQUENCE:3
DTSTAMP:20260422T195838Z
URL:https://public.lakecity.org/events/details/lake-city-kiwanis-04-20-2016-5232
END:VEVENT

END:VCALENDAR
