BEGIN:VCALENDAR
VERSION:2.0
PRODID:-//ChamberMaster//Event Calendar 2.0//EN
METHOD:PUBLISH
X-PUBLISHED-TTL:P3D
REFRESH-INTERVAL:P3D
CALSCALE:GREGORIAN
BEGIN:VEVENT
DTSTART:20160518T170000Z
DTEND:20160518T180000Z
X-MICROSOFT-CDO-ALLDAYEVENT:FALSE
SUMMARY:Lake City Kiwanis
DESCRIPTION:Lake City Kiwanis meets weekly at noon at Port 104. Join us for lunch\, a business meeting and then a speaker. First Lutheran Pastor Tim Ehling is scheduled to share his journey on becoming a pastor
X-ALT-DESC;FMTTYPE=text/html:Lake City Kiwanis meets weekly at noon at Port 104. Join us for lunch\, a business meeting and then a speaker. First Lutheran Pastor Tim Ehling is scheduled to share his journey on becoming a pastor
LOCATION:Port 104\, Lake City
UID:e.621.5243
SEQUENCE:3
DTSTAMP:20260422T182818Z
URL:https://public.lakecity.org/events/details/lake-city-kiwanis-05-18-2016-5243
END:VEVENT

END:VCALENDAR
