BEGIN:VCALENDAR
VERSION:2.0
PRODID:-//ChamberMaster//Event Calendar 2.0//EN
METHOD:PUBLISH
X-PUBLISHED-TTL:P3D
REFRESH-INTERVAL:P3D
CALSCALE:GREGORIAN
BEGIN:VEVENT
DTSTART:20160525T170000Z
DTEND:20160525T180000Z
X-MICROSOFT-CDO-ALLDAYEVENT:FALSE
SUMMARY:Lake City Kiwanis
DESCRIPTION:Lake City Kiwanis meets weekly at noon at Port 104. Join us for lunch\, a business meeting and then a speaker. In commemoration of Memorial Day\, Colin Atkinson joins us on May 25 to share his time spent serving in the military. Colin is also the art teacher at Lincoln High.
X-ALT-DESC;FMTTYPE=text/html:Lake City Kiwanis meets weekly at noon at Port 104. Join us for lunch\, a business meeting and then a speaker. In commemoration of Memorial Day\, Colin Atkinson joins us on May 25 to share his time spent serving in the military. Colin is also the art teacher at Lincoln High.
LOCATION:Port 104\, Lake City
UID:e.621.5244
SEQUENCE:3
DTSTAMP:20260422T182808Z
URL:https://public.lakecity.org/events/details/lake-city-kiwanis-05-25-2016-5244
END:VEVENT

END:VCALENDAR
