BEGIN:VCALENDAR
VERSION:2.0
PRODID:-//ChamberMaster//Event Calendar 2.0//EN
METHOD:PUBLISH
X-PUBLISHED-TTL:P3D
REFRESH-INTERVAL:P3D
CALSCALE:GREGORIAN
BEGIN:VEVENT
DTSTART:20160803T170000Z
DTEND:20160803T180000Z
X-MICROSOFT-CDO-ALLDAYEVENT:FALSE
SUMMARY:Lake City Kiwanis
DESCRIPTION:Lake City Kiwanis meets weekly at noon at Port 104. Join us for lunch\, a business meeting and then a speaker. Matt Schmit\, DLF Senator representing District 21\, joins us on August 3.
X-ALT-DESC;FMTTYPE=text/html:Lake City Kiwanis meets weekly at noon at Port 104. Join us for lunch\, a business meeting and then a speaker. Matt Schmit\, DLF Senator representing District 21\, joins us on August 3.
LOCATION:Port 104\, Lake City
UID:e.621.5416
SEQUENCE:3
DTSTAMP:20260422T142349Z
URL:https://public.lakecity.org/events/details/lake-city-kiwanis-08-03-2016-5416
END:VEVENT

END:VCALENDAR
