BEGIN:VCALENDAR
VERSION:2.0
PRODID:-//ChamberMaster//Event Calendar 2.0//EN
METHOD:PUBLISH
X-PUBLISHED-TTL:P3D
REFRESH-INTERVAL:P3D
CALSCALE:GREGORIAN
BEGIN:VEVENT
DTSTART:20160810T170000Z
DTEND:20160810T180000Z
X-MICROSOFT-CDO-ALLDAYEVENT:FALSE
SUMMARY:Lake City Kiwanis
DESCRIPTION:Lake City Kiwanis meets weekly at noon at Port 104. Join us for lunch\, a business meeting and then a speaker. Lee & Sharon Eggenberger will join us on August 10 to talk about Relay for Life.
X-ALT-DESC;FMTTYPE=text/html:Lake City Kiwanis meets weekly at noon at Port 104. Join us for lunch\, a business meeting and then a speaker. Lee &amp\; Sharon Eggenberger will join us on August 10 to talk about Relay for Life.
LOCATION:Port 104\, Lake City
UID:e.621.5417
SEQUENCE:3
DTSTAMP:20260422T155153Z
URL:https://public.lakecity.org/events/details/lake-city-kiwanis-08-10-2016-5417
END:VEVENT

END:VCALENDAR
