BEGIN:VCALENDAR
VERSION:2.0
PRODID:-//ChamberMaster//Event Calendar 2.0//EN
METHOD:PUBLISH
X-PUBLISHED-TTL:P3D
REFRESH-INTERVAL:P3D
CALSCALE:GREGORIAN
BEGIN:VEVENT
DTSTART:20160817T170000Z
DTEND:20160817T180000Z
X-MICROSOFT-CDO-ALLDAYEVENT:FALSE
SUMMARY:Lake City Kiwanis
DESCRIPTION:Lake City Kiwanis meets weekly at noon at Port 104. Join us for lunch\, a business meeting and then a speaker. Barb Haley is seeking the Republican endorsement for Minnesota House in District 21A. We ask that politicians running for office do not campaign at our meetings\, but rather present another topic of interest. She will be sharing a personal story related to some of her charity work.
X-ALT-DESC;FMTTYPE=text/html:Lake City Kiwanis meets weekly at noon at Port 104. Join us for lunch\, a business meeting and then a speaker. Barb Haley is seeking the Republican endorsement for Minnesota House in District 21A. We ask that politicians running for office do not campaign at our meetings\, but rather present another topic of interest. She will be sharing a personal story related to some of her charity work.
LOCATION:Port 104\, Lake City
UID:e.621.5418
SEQUENCE:3
DTSTAMP:20260422T154241Z
URL:https://public.lakecity.org/events/details/lake-city-kiwanis-08-17-2016-5418
END:VEVENT

END:VCALENDAR
