BEGIN:VCALENDAR
VERSION:2.0
PRODID:-//ChamberMaster//Event Calendar 2.0//EN
METHOD:PUBLISH
X-PUBLISHED-TTL:P3D
REFRESH-INTERVAL:P3D
CALSCALE:GREGORIAN
BEGIN:VEVENT
DTSTART:20160824T170000Z
DTEND:20160824T180000Z
X-MICROSOFT-CDO-ALLDAYEVENT:FALSE
SUMMARY:Lake City Kiwanis
DESCRIPTION:Lake City Kiwanis meets weekly at noon at Port 104. Join us for lunch\, a business meeting and then a speaker. Paavo Pyykkonen will be joining us to share more information on a program called Water for Life\, which provides water filters to areas of the world that lack safe drinking water.
X-ALT-DESC;FMTTYPE=text/html:Lake City Kiwanis meets weekly at noon at Port 104. Join us for lunch\, a business meeting and then a speaker. Paavo Pyykkonen will be joining us to share more information on a program called Water for Life\, which provides water filters to areas of the world that lack safe drinking water.
LOCATION:Port 104\, Lake City
UID:e.621.5419
SEQUENCE:3
DTSTAMP:20260422T155154Z
URL:https://public.lakecity.org/events/details/lake-city-kiwanis-08-24-2016-5419
END:VEVENT

END:VCALENDAR
