BEGIN:VCALENDAR
VERSION:2.0
PRODID:-//ChamberMaster//Event Calendar 2.0//EN
METHOD:PUBLISH
X-PUBLISHED-TTL:P3D
REFRESH-INTERVAL:P3D
CALSCALE:GREGORIAN
BEGIN:VEVENT
DTSTART:20170110T000000Z
DTEND:20170110T020000Z
X-MICROSOFT-CDO-ALLDAYEVENT:FALSE
SUMMARY:Lake City Lions Club Meeting
DESCRIPTION:Lake City Lions Club Meeting
X-ALT-DESC;FMTTYPE=text/html:Lake City Lions Club Meeting
LOCATION:American Legion Washington St. Lake City
UID:e.621.5522
SEQUENCE:3
DTSTAMP:20260422T073002Z
URL:https://public.lakecity.org/events/details/lake-city-lions-club-meeting-01-09-2017-5522
END:VEVENT

END:VCALENDAR
