BEGIN:VCALENDAR
VERSION:2.0
PRODID:-//ChamberMaster//Event Calendar 2.0//EN
METHOD:PUBLISH
X-PUBLISHED-TTL:P3D
REFRESH-INTERVAL:P3D
CALSCALE:GREGORIAN
BEGIN:VEVENT
DTSTART:20170313T230000Z
DTEND:20170314T010000Z
X-MICROSOFT-CDO-ALLDAYEVENT:FALSE
SUMMARY:Lake City Lions Club Meeting
DESCRIPTION:Lake City Lions Club Meeting
X-ALT-DESC;FMTTYPE=text/html:Lake City Lions Club Meeting
LOCATION:American Legion Washington St. Lake City
UID:e.621.5524
SEQUENCE:3
DTSTAMP:20260422T060211Z
URL:https://public.lakecity.org/events/details/lake-city-lions-club-meeting-03-13-2017-5524
END:VEVENT

END:VCALENDAR
