BEGIN:VCALENDAR
VERSION:2.0
PRODID:-//ChamberMaster//Event Calendar 2.0//EN
METHOD:PUBLISH
X-PUBLISHED-TTL:P3D
REFRESH-INTERVAL:P3D
CALSCALE:GREGORIAN
BEGIN:VEVENT
DTSTART:20150516T140000Z
DTEND:20151003T180000Z
X-MICROSOFT-CDO-ALLDAYEVENT:FALSE
SUMMARY:Lake City Saturday Farmer's Market
DESCRIPTION:Produce\, baked goods\, canned items\, crafts\, flea market items plus much more.
X-ALT-DESC;FMTTYPE=text/html:Produce\, baked goods\, canned items\, crafts\, flea market items plus much more.
LOCATION:Corner of Center and Washington Street in Century Link Parking Lot
UID:e.621.4463
SEQUENCE:3
DTSTAMP:20260424T165905Z
URL:https://public.lakecity.org/events/details/lake-city-saturday-farmer-s-market-05-16-2015-4463
END:VEVENT

END:VCALENDAR
