BEGIN:VCALENDAR
VERSION:2.0
PRODID:-//ChamberMaster//Event Calendar 2.0//EN
METHOD:PUBLISH
X-PUBLISHED-TTL:P3D
REFRESH-INTERVAL:P3D
CALSCALE:GREGORIAN
BEGIN:VEVENT
DTSTART;VALUE=DATE:20140215
DTEND;VALUE=DATE:20140216
TRANSP:TRANSPARENT
X-MICROSOFT-CDO-ALLDAYEVENT:TRUE
SUMMARY:Lake City Sportsman's Club Annual Fishing Contest
DESCRIPTION:Fishing contest\, games\, bingo\, food\, silent and live auction and fun for the entire family throughout the day.
X-ALT-DESC;FMTTYPE=text/html:Fishing contest\, games\, bingo\, food\, silent and live auction and fun for the entire family throughout the day.
LOCATION:Lake City Sportsman's Club 2200 South Oak St Lake City MN
UID:e.621.3426
SEQUENCE:3
DTSTAMP:20260426T003037Z
URL:https://public.lakecity.org/events/details/lake-city-sportsman-s-club-annual-fishing-contest-02-15-2014-3426
END:VEVENT

END:VCALENDAR
