BEGIN:VCALENDAR
VERSION:2.0
PRODID:-//ChamberMaster//Event Calendar 2.0//EN
METHOD:PUBLISH
X-PUBLISHED-TTL:P3D
REFRESH-INTERVAL:P3D
CALSCALE:GREGORIAN
BEGIN:VEVENT
DTSTART:20161118T233000Z
DTEND:20161119T020000Z
X-MICROSOFT-CDO-ALLDAYEVENT:FALSE
SUMMARY:Lake City Sportsman's Club Fish Fry
DESCRIPTION:Fish dinner with all the trimmings. dinner includes batter fried cod\, potato\, beans\, onion rings\, coleslaw\, dinner roll\, coffee or milk and sweet treat for dessert. Take out dinners available. Please call ahead and allow up to a 20 minute wait. Bar is open to purchase cocktails before and or after dinner.
X-ALT-DESC;FMTTYPE=text/html:Fish dinner with all the trimmings. dinner includes batter fried cod\, potato\, beans\, onion rings\, coleslaw\, dinner roll\, coffee or milk and sweet treat for dessert. Take out dinners available. Please call ahead and allow up to a 20 minute wait. Bar is open to purchase cocktails before and or after dinner.
LOCATION:Lake City sportsman's Club\, 2200 South Oak Street\, Lake City MN
UID:e.621.5481
SEQUENCE:3
DTSTAMP:20260422T104019Z
URL:https://public.lakecity.org/events/details/lake-city-sportsman-s-club-fish-fry-5481
END:VEVENT

END:VCALENDAR
