BEGIN:VCALENDAR
VERSION:2.0
PRODID:-//ChamberMaster//Event Calendar 2.0//EN
METHOD:PUBLISH
X-PUBLISHED-TTL:P3D
REFRESH-INTERVAL:P3D
CALSCALE:GREGORIAN
BEGIN:VEVENT
DTSTART:20140228T233000Z
DTEND:20140301T030000Z
X-MICROSOFT-CDO-ALLDAYEVENT:FALSE
SUMMARY:Lake City Sportsman's Club Friday Fish Fry
DESCRIPTION:The Lake City Sportsmans Club fish dinner includes batterfried cod\, potato\, baked beans\, onion rings\, coleslaw\, dinner roll\, coffee/milk\, and a sweet treat for dessert. It's a great meal for $11.00. Takeouts available for $12. Serving starts at 5:30 each Friday.
X-ALT-DESC;FMTTYPE=text/html:The Lake City Sportsmans Club fish dinner includes batterfried cod\, potato\, baked beans\, onion rings\, coleslaw\, dinner roll\, coffee/milk\, and a sweet treat for dessert. It&#39\;s a great meal for $11.00. Takeouts available for $12. Serving starts at 5:30 each Friday.
LOCATION:
UID:e.621.3599
SEQUENCE:3
DTSTAMP:20260426T002930Z
URL:https://public.lakecity.org/events/details/lake-city-sportsman-s-club-friday-fish-fry-02-28-2014-3599
END:VEVENT

END:VCALENDAR
