BEGIN:VCALENDAR
VERSION:2.0
PRODID:-//ChamberMaster//Event Calendar 2.0//EN
METHOD:PUBLISH
X-PUBLISHED-TTL:P3D
REFRESH-INTERVAL:P3D
CALSCALE:GREGORIAN
BEGIN:VEVENT
DTSTART:20141004T140000Z
DTEND:20141004T220000Z
X-MICROSOFT-CDO-ALLDAYEVENT:FALSE
SUMMARY:Lake City - Women at Work Art Exhibit
DESCRIPTION:"Lake City - Women at Work" Portrait Show\n\nProduced by "Lake City Show and Share" art group\n\nMore information click here.
X-ALT-DESC;FMTTYPE=text/html:&quot\;Lake City - Women at Work&quot\; Portrait Show<br />\nProduced by &quot\;Lake City Show and Share&quot\; art group<br />\n<a href="http://cloud.chambermaster.com/userfiles/UserFiles/chambers/621/File/scan0015.jpg">More information click here.</a><br />\n&nbsp\;
LOCATION:Council Chambers\, City Hall\, 2nd Floor
UID:e.621.4262
SEQUENCE:3
DTSTAMP:20260425T112428Z
URL:https://public.lakecity.org/events/details/lake-city-women-at-work-art-exhibit-10-04-2014-4262
END:VEVENT

END:VCALENDAR
