BEGIN:VCALENDAR
VERSION:2.0
PRODID:-//ChamberMaster//Event Calendar 2.0//EN
METHOD:PUBLISH
X-PUBLISHED-TTL:P3D
REFRESH-INTERVAL:P3D
CALSCALE:GREGORIAN
BEGIN:VEVENT
DTSTART;VALUE=DATE:20160618
DTEND;VALUE=DATE:20160621
TRANSP:TRANSPARENT
X-MICROSOFT-CDO-ALLDAYEVENT:TRUE
SUMMARY:Lake City Yacht Club Sailing School
DESCRIPTION:This basic sailing course utilizes material from the US Sailing Association\, the national standard for quality sailing instruction\, to prepare students for safe sailing in small sailboats. The class format is both classroom and hands-on water instruction in Sunfish sailboats. Minimum age requirement is 16 years old\, and all students must pass a basic swim check the first day of class.
X-ALT-DESC;FMTTYPE=text/html:This basic sailing course utilizes material from the US Sailing Association\, the national standard for quality sailing instruction\, to prepare students for safe sailing in small sailboats. The class format is both classroom and hands-on water instruction in Sunfish sailboats. Minimum age requirement is 16 years old\, and all students must pass a basic swim check the first day of class.
LOCATION:Lake City Beach-Ohuta Park
UID:e.621.5088
SEQUENCE:3
DTSTAMP:20260422T171717Z
URL:https://public.lakecity.org/events/details/lake-city-yacht-club-sailing-school-06-18-2016-5088
END:VEVENT

END:VCALENDAR
