BEGIN:VCALENDAR
VERSION:2.0
PRODID:-//ChamberMaster//Event Calendar 2.0//EN
METHOD:PUBLISH
X-PUBLISHED-TTL:P3D
REFRESH-INTERVAL:P3D
CALSCALE:GREGORIAN
BEGIN:VEVENT
DTSTART;VALUE=DATE:20151127
DTEND;VALUE=DATE:20151129
TRANSP:TRANSPARENT
X-MICROSOFT-CDO-ALLDAYEVENT:TRUE
SUMMARY:Lake Pepin Floral & Gifts Holiday Open House
DESCRIPTION:Come and join us! We are decked out in great gift and trend-setting holiday home d cor. We have a big selection of evergreen boughs and custom greenery pots\, kissing balls and wreaths\, as well as poinsettias\, fresh and permanent arrangements and much\, much more. Free calendars and refreshments!
X-ALT-DESC;FMTTYPE=text/html:Come and join us! We are decked out in great gift and trend-setting holiday home d&eacute\;cor. We have a big selection of evergreen boughs and custom greenery pots\, kissing balls and wreaths\, as well as poinsettias\, fresh and permanent arrangements and much\, much more. Free calendars and refreshments!
LOCATION:Lake Pepin Floral & Gifts 110 S Lakeshore Dr. Lake City\, MN 55041
UID:e.621.4531
SEQUENCE:3
DTSTAMP:20260424T153822Z
URL:https://public.lakecity.org/events/details/lake-pepin-floral-gifts-holiday-open-house-11-27-2015-4531
END:VEVENT

END:VCALENDAR
