BEGIN:VCALENDAR
VERSION:2.0
PRODID:-//ChamberMaster//Event Calendar 2.0//EN
METHOD:PUBLISH
X-PUBLISHED-TTL:P3D
REFRESH-INTERVAL:P3D
CALSCALE:GREGORIAN
BEGIN:VEVENT
DTSTART:20140828T230000Z
DTEND:20140829T010000Z
X-MICROSOFT-CDO-ALLDAYEVENT:FALSE
SUMMARY:Lakeshore Agency & AAA Farmer's Market Special
DESCRIPTION:Come visit Lakeshore Agency & AAA's Farmer's market table! They'll be giving away 2- AAA memberships\, two coolers full of goodies\, and a bucket full of goodies!
X-ALT-DESC;FMTTYPE=text/html:Come visit Lakeshore Agency &amp\; AAA&#39\;s Farmer&#39\;s market table! They&#39\;ll be giving away 2- AAA memberships\, two coolers full of goodies\, and a bucket full of goodies!
LOCATION:Ohuta Park swimming beach parking lot
UID:e.621.4285
SEQUENCE:3
DTSTAMP:20260425T143007Z
URL:https://public.lakecity.org/events/details/lakeshore-agency-aaa-farmer-s-market-special-08-28-2014-4285
END:VEVENT

END:VCALENDAR
