BEGIN:VCALENDAR
VERSION:2.0
PRODID:-//ChamberMaster//Event Calendar 2.0//EN
METHOD:PUBLISH
X-PUBLISHED-TTL:P3D
REFRESH-INTERVAL:P3D
CALSCALE:GREGORIAN
BEGIN:VEVENT
DTSTART:20140619T210000Z
DTEND:20140619T230000Z
X-MICROSOFT-CDO-ALLDAYEVENT:FALSE
SUMMARY:Lakeshore Agency's Root Beer Float Stand
DESCRIPTION:FREE Root Beer Float Stand\n\nThrifty 3rd Thursday All Around Town
X-ALT-DESC;FMTTYPE=text/html:FREE Root Beer Float Stand<br />\nThrifty 3rd Thursday All Around Town
LOCATION:109 S. Lakeshore Dr. Lake City MN
UID:e.621.4036
SEQUENCE:3
DTSTAMP:20260425T172652Z
URL:https://public.lakecity.org/events/details/lakeshore-agency-s-root-beer-float-stand-06-19-2014-4036
END:VEVENT

END:VCALENDAR
