BEGIN:VCALENDAR
VERSION:2.0
PRODID:-//ChamberMaster//Event Calendar 2.0//EN
METHOD:PUBLISH
X-PUBLISHED-TTL:P3D
REFRESH-INTERVAL:P3D
CALSCALE:GREGORIAN
BEGIN:VEVENT
DTSTART:20140118T153000Z
DTEND:20140119T200000Z
X-MICROSOFT-CDO-ALLDAYEVENT:FALSE
SUMMARY:Laughter\, the Language of the Soul: A Fun Exploration of Humor and Spirituality
DESCRIPTION:Designed for YOU!  You're invited to decompress after the holidays at a special humor and spirituality retreat featuring Linda Hutchinson\, nationally recognized humor educator and author.\n\n\n\nThe program will be practical\, pithy and playful.  You'll also enjoy time for relaxation\, reflection and walks in the woods.  The program will explore the relationship between humor and spirituality -- the benefits\, barriers\, and best ideas for adding healthy humor for spiritual growth.
X-ALT-DESC;FMTTYPE=text/html:Designed for YOU! &nbsp\;You&#39\;re invited to decompress after the holidays at a special humor and spirituality retreat featuring Linda Hutchinson\, nationally recognized humor educator and author.<br />\n<br />\nThe program will be practical\, pithy and playful. &nbsp\;You&#39\;ll also enjoy time for relaxation\, reflection and walks in the woods. &nbsp\;The program will explore the relationship between humor and spirituality -- the benefits\, barriers\, and best ideas for adding healthy humor for spiritual growth.
LOCATION:Villa Maria Retreat & Conference Center
UID:e.621.3429
SEQUENCE:3
DTSTAMP:20260426T032316Z
URL:https://public.lakecity.org/events/details/laughter-the-language-of-the-soul-a-fun-exploration-of-humor-and-spirituality-01-18-2014-3429
END:VEVENT

END:VCALENDAR
