BEGIN:VCALENDAR
VERSION:2.0
PRODID:-//ChamberMaster//Event Calendar 2.0//EN
METHOD:PUBLISH
X-PUBLISHED-TTL:P3D
REFRESH-INTERVAL:P3D
CALSCALE:GREGORIAN
BEGIN:VEVENT
DTSTART:20140110T233000Z
DTEND:20140111T020000Z
X-MICROSOFT-CDO-ALLDAYEVENT:FALSE
SUMMARY:LC Sportsman's Club Fish Fry
DESCRIPTION:Fish Fry Dinner includes batterfried cod\, potato\, baked beans\, onion rings\, coleslaw\, dinner roll\, coffee or milk and a sweet treat for dessert. No need to wait until the Lenten season for one of our great fish dinners.
X-ALT-DESC;FMTTYPE=text/html:Fish Fry Dinner includes batterfried cod\, potato\, baked beans\, onion rings\, coleslaw\, dinner roll\, coffee or milk and a sweet treat for dessert. No need to wait until the Lenten season for one of our great fish dinners. 
LOCATION:Lake City Sportsmans Club 2200 South Oak St Lake City MN
UID:e.621.3425
SEQUENCE:3
DTSTAMP:20260426T032239Z
URL:https://public.lakecity.org/events/details/lc-sportsman-s-club-fish-fry-01-10-2014-3425
END:VEVENT

END:VCALENDAR
