BEGIN:VCALENDAR
VERSION:2.0
PRODID:-//ChamberMaster//Event Calendar 2.0//EN
METHOD:PUBLISH
X-PUBLISHED-TTL:P3D
REFRESH-INTERVAL:P3D
CALSCALE:GREGORIAN
BEGIN:VEVENT
DTSTART:20160205T233000Z
DTEND:20160206T020000Z
X-MICROSOFT-CDO-ALLDAYEVENT:FALSE
SUMMARY:LC Sportsman's Club Fish Fry
DESCRIPTION:Fish Fry dinner includes batter fried cod\, potato\, onion rings\, baked beans\, coleslaw\, dinner roll\, coffee/milk and sweet treat for dessert. Take outs available. Order by calling 345-2901 after 5:00. Allow 15 minute prep time please. Upstairs bar will be open at 5:00 to enjoy a beverage before or after dinner. Everyone is welcome.
X-ALT-DESC;FMTTYPE=text/html:Fish Fry dinner includes batter fried cod\, potato\, onion rings\, baked beans\, coleslaw\, dinner roll\, coffee/milk and sweet treat for dessert. Take outs available. Order by calling 345-2901 after 5:00. Allow 15 minute prep time please. Upstairs bar will be open at 5:00 to enjoy a beverage before or after dinner. Everyone is welcome.
LOCATION:Lake City Sportsman's Club\, 2200 S. Oak St\, Lake City
UID:e.621.4550
SEQUENCE:3
DTSTAMP:20260424T120903Z
URL:https://public.lakecity.org/events/details/lc-sportsman-s-club-fish-fry-02-05-2016-4550
END:VEVENT

END:VCALENDAR
