BEGIN:VCALENDAR
VERSION:2.0
PRODID:-//ChamberMaster//Event Calendar 2.0//EN
METHOD:PUBLISH
X-PUBLISHED-TTL:P3D
REFRESH-INTERVAL:P3D
CALSCALE:GREGORIAN
BEGIN:VEVENT
DTSTART:20160226T233000Z
DTEND:20160227T020000Z
X-MICROSOFT-CDO-ALLDAYEVENT:FALSE
SUMMARY:LC Sportsman's Club Fish Fry
DESCRIPTION:Fish dinner with all the trimmings. Includes batter fried cod\, potato\, beans\, onion rings\, coleslaw\, dinner roll\, coffee or milk and a sweet treat for dessert. Take outs (6 pieces of fish) available.
X-ALT-DESC;FMTTYPE=text/html:Fish dinner with all the trimmings. Includes batter fried cod\, potato\, beans\, onion rings\, coleslaw\, dinner roll\, coffee or milk and a sweet treat for dessert. Take outs (6 pieces of fish) available.
LOCATION:Lake City sportsman's Club\, 2200 S Oak St\, Lake City
UID:e.621.4768
SEQUENCE:3
DTSTAMP:20260424T104046Z
URL:https://public.lakecity.org/events/details/lc-sportsman-s-club-fish-fry-02-26-2016-4768
END:VEVENT

END:VCALENDAR
