BEGIN:VCALENDAR
VERSION:2.0
PRODID:-//ChamberMaster//Event Calendar 2.0//EN
METHOD:PUBLISH
X-PUBLISHED-TTL:P3D
REFRESH-INTERVAL:P3D
CALSCALE:GREGORIAN
BEGIN:VEVENT
DTSTART:20160304T233000Z
DTEND:20160305T020000Z
X-MICROSOFT-CDO-ALLDAYEVENT:FALSE
SUMMARY:LC Sportsman's Club Fish Fry
DESCRIPTION:Fish dinner with all the trimmings. Includes batter fried cod\, potato\, beans\, onion rings\, coleslaw\, dinner roll\, coffee or milk and a sweet treat for dessert. Take outs (6 pieces of fish) available. Upstairs bar opens at 4:30\, lower bar at 5:00 pm.
X-ALT-DESC;FMTTYPE=text/html:Fish dinner with all the trimmings. Includes batter fried cod\, potato\, beans\, onion rings\, coleslaw\, dinner roll\, coffee or milk and a sweet treat for dessert. Take outs (6 pieces of fish) available. Upstairs bar opens at 4:30\, lower bar at 5:00 pm.
LOCATION:Lake City Sportsman's Club\, 2200 South Oak St\, Lake City MN
UID:e.621.4769
SEQUENCE:3
DTSTAMP:20260424T084540Z
URL:https://public.lakecity.org/events/details/lc-sportsman-s-club-fish-fry-03-04-2016-4769
END:VEVENT

END:VCALENDAR
