BEGIN:VCALENDAR
VERSION:2.0
PRODID:-//ChamberMaster//Event Calendar 2.0//EN
METHOD:PUBLISH
X-PUBLISHED-TTL:P3D
REFRESH-INTERVAL:P3D
CALSCALE:GREGORIAN
BEGIN:VEVENT
DTSTART:20170324T223000Z
DTEND:20170325T010000Z
X-MICROSOFT-CDO-ALLDAYEVENT:FALSE
SUMMARY:LC Sportsman's Club Fish Fry
DESCRIPTION:Lake City Sportsman's Club Lenten fish fry. Dinner includes: batter fried cod\, potato\, beans\, onion rings\, coleslaw\, dinner roll\, milk or coffee and a sweet treat for dessert. Bar opens at 5:00 p.m.. Call-in takeouts available but please allow about 20 minute wait to pick up. Everyone is welcome.
X-ALT-DESC;FMTTYPE=text/html:Lake City Sportsman&#39\;s Club Lenten fish fry. Dinner includes: batter fried cod\, potato\, beans\, onion rings\, coleslaw\, dinner roll\, milk or coffee and a sweet treat for dessert. Bar opens at 5:00 p.m.. Call-in takeouts available but please allow about 20 minute wait to pick up. Everyone is welcome.
LOCATION:Lake City Sportsman's Club\, 2200 South Oak Street\, Lake City MN
UID:e.621.5686
SEQUENCE:3
DTSTAMP:20260422T043443Z
URL:https://public.lakecity.org/events/details/lc-sportsman-s-club-fish-fry-03-24-2017-5686
END:VEVENT

END:VCALENDAR
