BEGIN:VCALENDAR
VERSION:2.0
PRODID:-//ChamberMaster//Event Calendar 2.0//EN
METHOD:PUBLISH
X-PUBLISHED-TTL:P3D
REFRESH-INTERVAL:P3D
CALSCALE:GREGORIAN
BEGIN:VEVENT
DTSTART:20170407T223000Z
DTEND:20170408T010000Z
X-MICROSOFT-CDO-ALLDAYEVENT:FALSE
SUMMARY:LC Sportsman's Club Fish Fry
DESCRIPTION:Lake City Sportsman's Club Lenten fish fry. Dinner includes: batter fried cod\, potato\, beans\, onion rings\, coleslaw\, dinner roll\, milk or coffee and a sweet treat for dessert. Bar opens at 5:00 pm. Call-in take outs available but please allow about 20 minute wait to pick up. Everyone is welcome.\n\n\n\nALSO\, BINGO TONIGHT 7:00 pm SPONSORED BY LC LINCOLN HIGH SCHOOL SPORTS TEAMS
X-ALT-DESC;FMTTYPE=text/html:Lake City Sportsman&#39\;s Club Lenten fish fry. Dinner includes: batter fried cod\, potato\, beans\, onion rings\, coleslaw\, dinner roll\, milk or coffee and a sweet treat for dessert. Bar opens at 5:00 pm. Call-in take outs available but please allow about 20 minute wait to pick up. Everyone is welcome.<br />\n<br />\nALSO\, BINGO TONIGHT 7:00 pm&nbsp\;SPONSORED BY LC LINCOLN HIGH SCHOOL SPORTS TEAMS
LOCATION:2200 S Oak Street Lake City MN
UID:e.621.5701
SEQUENCE:3
DTSTAMP:20260422T042706Z
URL:https://public.lakecity.org/events/details/lc-sportsman-s-club-fish-fry-04-07-2017-5701
END:VEVENT

END:VCALENDAR
