BEGIN:VCALENDAR
VERSION:2.0
PRODID:-//ChamberMaster//Event Calendar 2.0//EN
METHOD:PUBLISH
X-PUBLISHED-TTL:P3D
REFRESH-INTERVAL:P3D
CALSCALE:GREGORIAN
BEGIN:VEVENT
DTSTART;VALUE=DATE:20160220
DTEND;VALUE=DATE:20160221
TRANSP:TRANSPARENT
X-MICROSOFT-CDO-ALLDAYEVENT:TRUE
SUMMARY:LC Sportsman's Club Fishing Contest
DESCRIPTION:Fishing Contest 1:00 - 3:30\, Bingo starts at10:30\, Brats\, hamburgers\, chili\, soup and more available in the clubhouse and on the ice. Raffles ongoing in the clubhouse all afternoon. Kids games on the ice. Silent auction and much more. $5.00 fishing tickets & $1 raffle tickets available around town and at the event.
X-ALT-DESC;FMTTYPE=text/html:Fishing Contest 1:00 - 3:30\, Bingo starts at10:30\, Brats\, hamburgers\, chili\, soup and more available in the clubhouse and on the ice. Raffles ongoing in the clubhouse all afternoon. Kids games on the ice. Silent auction and much more. $5.00 fishing tickets &amp\; $1 raffle tickets available around town and at the event.
LOCATION:Lake City Sportsman's Club\, 2200 S Oak St.\, Lake City MN
UID:e.621.4772
SEQUENCE:3
DTSTAMP:20260424T120902Z
URL:https://public.lakecity.org/events/details/lc-sportsman-s-club-fishing-contest-02-20-2016-4772
END:VEVENT

END:VCALENDAR
